BEGIN:VCALENDAR
VERSION:2.0
PRODID:-//Golfe Saint-Tropez//Events//FR
CALSCALE:GREGORIAN
METHOD:PUBLISH
BEGIN:VEVENT
UID:69eb906019580@golfe-saint-tropez.com
DTSTAMP:20260424T154640Z
DTSTART:20260514T085419
DTEND:20260514T085419
SUMMARY:Foire de la Laine et des bergers
DESCRIPTION:Venez célébrer l’héritage agricole et l’authenticité provençale lors de l’événement incontournable de Grimaud ! Le jeudi 14 mai 2026\, la […]\n\nPlus d'infos : https://golfe-saint-tropez.com/evenement/grimaud/foire-de-la-laine-et-des-bergers/
LOCATION:Grimaud\, Centre du village
STATUS:CONFIRMED
SEQUENCE:0
END:VEVENT
END:VCALENDAR
