BEGIN:VCALENDAR
VERSION:2.0
PRODID:-//Golfe Saint-Tropez//Events//FR
CALSCALE:GREGORIAN
METHOD:PUBLISH
BEGIN:VEVENT
UID:69e7f53e9cf5c@golfe-saint-tropez.com
DTSTAMP:20260421T220758Z
DTSTART:20260516T000000
DTEND:20260927T000000
SUMMARY:Grimaud Art Urbain  
DESCRIPTION:Préparez-vous à une immersion artistique spectaculaire : l’événement « Grimaud Art Urbain » revient en force pour transformer la magnifique commune de […]\n\nPlus d'infos : https://golfe-saint-tropez.com/evenement/grimaud/grimaud-art-urbain/
LOCATION:Centre-ville historique de Grimaud\, 83310 Grimaud
STATUS:CONFIRMED
SEQUENCE:0
END:VEVENT
END:VCALENDAR
