BEGIN:VCALENDAR
VERSION:2.0
PRODID:-//Golfe Saint-Tropez//Events//FR
CALSCALE:GREGORIAN
METHOD:PUBLISH
BEGIN:VEVENT
UID:69eb7867ce998@golfe-saint-tropez.com
DTSTAMP:20260424T140423Z
DTSTART:20261031T000000
DTEND:20261031T000000
SUMMARY:Halloween à Grimaud
DESCRIPTION:Plongez dans l’ambiance mystérieuse d’Halloween au cœur du Golfe de Saint-Tropez ! Le 31 octobre 2026\, Grimaud se transforme en […]\n\nPlus d'infos : https://golfe-saint-tropez.com/evenement/grimaud/halloween-a-grimaud/
LOCATION:Château de Grimaud\, Place des Remparts\, 83310 Grimaud
STATUS:CONFIRMED
SEQUENCE:0
END:VEVENT
END:VCALENDAR
