BEGIN:VCALENDAR
VERSION:2.0
PRODID:-//Golfe Saint-Tropez//Events//FR
CALSCALE:GREGORIAN
METHOD:PUBLISH
BEGIN:VEVENT
UID:69e4ff7ae5187@golfe-saint-tropez.com
DTSTAMP:20260419T161450Z
DTSTART:20260601T000000
DTEND:20260628T000000
SUMMARY:Hello Sun Yoga Festival aux Prairies Mer  
DESCRIPTION:Plongez dans une journée de bien-être et de connexion avec la nature au Hello Sun Yoga Festival\, un événement incontournable […]\n\nPlus d'infos : https://golfe-saint-tropez.com/evenement/grimaud/hello-sun-yoga-festival-aux-prairies-mer/
LOCATION:Prairies de la Mer\, Grimaud\, Var\, France
STATUS:CONFIRMED
SEQUENCE:0
END:VEVENT
END:VCALENDAR
