BEGIN:VCALENDAR
VERSION:2.0
PRODID:-//Golfe Saint-Tropez//Events//FR
CALSCALE:GREGORIAN
METHOD:PUBLISH
BEGIN:VEVENT
UID:69e4fc148dc5a@golfe-saint-tropez.com
DTSTAMP:20260419T160020Z
DTSTART:20261126T183000
DTEND:20261126T183000
SUMMARY:Impromptus – Conférence  » sous-marins liberté »  
DESCRIPTION:Plongez dans l’histoire méconnue des sous-marins de la Libération lors de cette conférence captivante organisée dans le cadre des Impromptus […]\n\nPlus d'infos : https://golfe-saint-tropez.com/evenement/grimaud/impromptus-conference-sous-marins-liberte/
LOCATION:Salle de conférence\, Immeuble Beausoleil\, 850 route Nationale\, 83310 Grimaud
STATUS:CONFIRMED
SEQUENCE:0
END:VEVENT
END:VCALENDAR
