BEGIN:VCALENDAR
VERSION:2.0
PRODID:-//Golfe Saint-Tropez//Events//FR
CALSCALE:GREGORIAN
METHOD:PUBLISH
BEGIN:VEVENT
UID:69e51c309e315@golfe-saint-tropez.com
DTSTAMP:20260419T181720Z
DTSTART:20261008T000000
DTEND:20261008T000000
SUMMARY:Inattendues Grimaldines  
DESCRIPTION:Plongez dans l’univers artistique et surprenant des Inattendues Grimaldines\, un événement culturel unique qui anime le charmant village de Grimaud […]\n\nPlus d'infos : https://golfe-saint-tropez.com/evenement/grimaud/inattendues-grimaldines-2/
LOCATION:Mas des Bagtins\, 83310 Grimaud
STATUS:CONFIRMED
SEQUENCE:0
END:VEVENT
END:VCALENDAR
