BEGIN:VCALENDAR
VERSION:2.0
PRODID:-//Golfe Saint-Tropez//Events//FR
CALSCALE:GREGORIAN
METHOD:PUBLISH
BEGIN:VEVENT
UID:69eb7a3118f54@golfe-saint-tropez.com
DTSTAMP:20260424T141201Z
DTSTART:20260611T190000
DTEND:20260611T190000
SUMMARY:Inattendues Grimaldines  
DESCRIPTION:Plongez dans l’univers artistique et surprenant des Inattendues Grimaldines\, un événement incontournable du Golfe de Saint-Tropez qui anime le charmant […]\n\nPlus d'infos : https://golfe-saint-tropez.com/evenement/grimaud/inattendues-grimaldines-3/
LOCATION:Accrobranche de Grimaud\, Chemin Bagatin\, 83310 Grimaud
STATUS:CONFIRMED
SEQUENCE:0
END:VEVENT
END:VCALENDAR
