BEGIN:VCALENDAR
VERSION:2.0
PRODID:-//Golfe Saint-Tropez//Events//FR
CALSCALE:GREGORIAN
METHOD:PUBLISH
BEGIN:VEVENT
UID:69e519adb8366@golfe-saint-tropez.com
DTSTAMP:20260419T180637Z
DTSTART:20260917T000000
DTEND:20260917T000000
SUMMARY:Inattendues Grimaldines  
DESCRIPTION:Plongez dans l’univers artistique et surprenant des Inattendues Grimaldines\, un événement culturel incontournable du Golfe de Saint-Tropez. Le 17 septembre […]\n\nPlus d'infos : https://golfe-saint-tropez.com/evenement/grimaud/inattendues-grimaldines/
LOCATION:Ferme de Magdelonne\, 83310 Grimaud
STATUS:CONFIRMED
SEQUENCE:0
END:VEVENT
END:VCALENDAR
