BEGIN:VCALENDAR
VERSION:2.0
PRODID:-//Golfe Saint-Tropez//Events//FR
CALSCALE:GREGORIAN
METHOD:PUBLISH
BEGIN:VEVENT
UID:69eb7ad354f88@golfe-saint-tropez.com
DTSTAMP:20260424T141443Z
DTSTART:20260815T091932
DTEND:20260817T091932
SUMMARY:La Fête du Village de Grimaud
DESCRIPTION:Ne manquez pas le point culminant de l’été provençal dans le magnifique Golfe de Saint-Tropez ! La charmante cité médiévale […]\n\nPlus d'infos : https://golfe-saint-tropez.com/evenement/grimaud/la-fete-du-village-de/
LOCATION:Centre du village\, 83310 Grimaud\, Var
STATUS:CONFIRMED
SEQUENCE:0
END:VEVENT
END:VCALENDAR
