BEGIN:VCALENDAR
VERSION:2.0
PRODID:-//Golfe Saint-Tropez//Events//FR
CALSCALE:GREGORIAN
METHOD:PUBLISH
BEGIN:VEVENT
UID:69e8a163b0a6a@golfe-saint-tropez.com
DTSTAMP:20260422T102227Z
DTSTART:20260926T000000
DTEND:20260927T000000
SUMMARY:Les Médiévales de la Saint-Michel
DESCRIPTION:Plongez au cœur du Moyen Âge lors des Médiévales de la Saint-Michel\, un événement incontournable du Golfe de Saint-Tropez qui […]\n\nPlus d'infos : https://golfe-saint-tropez.com/evenement/grimaud/les-medievales-de-la-saint-michel/
LOCATION:Dans le village et ses ruelles puis au château\, 83310 Grimaud
STATUS:CONFIRMED
SEQUENCE:0
END:VEVENT
END:VCALENDAR
