BEGIN:VCALENDAR
VERSION:2.0
PRODID:-//Golfe Saint-Tropez//Events//FR
CALSCALE:GREGORIAN
METHOD:PUBLISH
BEGIN:VEVENT
UID:69e4e21d6b6af@golfe-saint-tropez.com
DTSTAMP:20260419T140933Z
DTSTART:20260110T111244
DTEND:20261114T111244
SUMMARY:L’heure conte Médiathèque de Grimaud
DESCRIPTION:Plongez dans un univers magique lors de L’heure conte à la Médiathèque de Grimaud\, un événement culturel idéal pour les […]\n\nPlus d'infos : https://golfe-saint-tropez.com/evenement/grimaud/lheure-conte-mediatheque-de-grimaud/
LOCATION:Médiathèque de Grimaud\, adresse précise non communiquée sur la source
STATUS:CONFIRMED
SEQUENCE:0
END:VEVENT
END:VCALENDAR
