BEGIN:VCALENDAR
VERSION:2.0
PRODID:-//Golfe Saint-Tropez//Events//FR
CALSCALE:GREGORIAN
METHOD:PUBLISH
BEGIN:VEVENT
UID:69e4cbd1d637e@golfe-saint-tropez.com
DTSTAMP:20260419T123425Z
DTSTART:20260328T103810
DTEND:20261226T103810
SUMMARY:Ludothèque – Jeux société  
DESCRIPTION:Découvrez un moment convivial et ludique au cœur du Golfe de Saint-Tropez avec la ludothèque de Grimaud ! Le samedi […]\n\nPlus d'infos : https://golfe-saint-tropez.com/evenement/grimaud/ludotheque-jeux-societe/
LOCATION:Médiathèque de Grimaud\, 850 Route Nationale 83310 Grimaud
STATUS:CONFIRMED
SEQUENCE:0
END:VEVENT
END:VCALENDAR
