BEGIN:VCALENDAR
VERSION:2.0
PRODID:-//Golfe Saint-Tropez//Events//FR
CALSCALE:GREGORIAN
METHOD:PUBLISH
BEGIN:VEVENT
UID:69e7f70a9367b@golfe-saint-tropez.com
DTSTAMP:20260421T221538Z
DTSTART:20260131T125948
DTEND:20261226T125948
SUMMARY:Ludothèque Médiathèque de Grimaud
DESCRIPTION:Découvrez un espace ludique et convivial au cœur du Golfe de Saint-Tropez ! La Ludothèque de la Médiathèque de Grimaud […]\n\nPlus d'infos : https://golfe-saint-tropez.com/evenement/grimaud/ludotheque-mediatheque-de-grimaud/
LOCATION:Médiathèque de Grimaud\, 850 Route Nationale\, Immeuble Beausoleil - 1er étage\, 83310 Grimaud
STATUS:CONFIRMED
SEQUENCE:0
END:VEVENT
END:VCALENDAR
