BEGIN:VCALENDAR
VERSION:2.0
PRODID:-//Golfe Saint-Tropez//Events//FR
CALSCALE:GREGORIAN
METHOD:PUBLISH
BEGIN:VEVENT
UID:69e4e61c39859@golfe-saint-tropez.com
DTSTAMP:20260419T142636Z
DTSTART:20260701T163023
DTEND:20260831T163023
SUMMARY:Marché artisanal nocturne Port  
DESCRIPTION:Plongez dans l’ambiance estivale du Golfe de Saint-Tropez avec le Marché artisanal nocturne de Port-Grimaud\, un événement incontournable à Grimaud. […]\n\nPlus d'infos : https://golfe-saint-tropez.com/evenement/grimaud/marche-artisanal-nocturne-port/
LOCATION:Port Grimaud 1 83310 Grimaud
STATUS:CONFIRMED
SEQUENCE:0
END:VEVENT
END:VCALENDAR
