BEGIN:VCALENDAR
VERSION:2.0
PRODID:-//Golfe Saint-Tropez//Events//FR
CALSCALE:GREGORIAN
METHOD:PUBLISH
BEGIN:VEVENT
UID:69e4d08e95687@golfe-saint-tropez.com
DTSTAMP:20260419T125438Z
DTSTART:20260413T163057
DTEND:20260921T163057
SUMMARY:Marché artisanal Port  
DESCRIPTION:Plongez dans l’ambiance authentique du Golfe de Saint-Tropez en découvrant le Marché artisanal de Port Grimaud\, un événement incontournable pour […]\n\nPlus d'infos : https://golfe-saint-tropez.com/evenement/grimaud/marche-artisanal-port/
LOCATION:Place des Artisans\, Port Grimaud 1 83310 Grimaud
STATUS:CONFIRMED
SEQUENCE:0
END:VEVENT
END:VCALENDAR
