BEGIN:VCALENDAR
VERSION:2.0
PRODID:-//Golfe Saint-Tropez//Events//FR
CALSCALE:GREGORIAN
METHOD:PUBLISH
BEGIN:VEVENT
UID:69e4cb6f0875c@golfe-saint-tropez.com
DTSTAMP:20260419T123247Z
DTSTART:20260111T140000
DTEND:20261108T161023
SUMMARY:Marché bio éthique  
DESCRIPTION:Découvrez le Marché bio éthique de Grimaud\, un événement incontournable pour les amateurs de produits sains et responsables dans le […]\n\nPlus d'infos : https://golfe-saint-tropez.com/evenement/grimaud/marche-bio-ethique/
LOCATION:Place de l'église\, Place de l'église\, 83310 Grimaud
STATUS:CONFIRMED
SEQUENCE:0
END:VEVENT
END:VCALENDAR
