BEGIN:VCALENDAR
VERSION:2.0
PRODID:-//Golfe Saint-Tropez//Events//FR
CALSCALE:GREGORIAN
METHOD:PUBLISH
BEGIN:VEVENT
UID:69e7e0dc4a193@golfe-saint-tropez.com
DTSTAMP:20260421T204100Z
DTSTART:20260423T080000
DTEND:20260423T130000
SUMMARY:Marché Provençal du Jeudi à Grimaud
DESCRIPTION:Chaque jeudi matin\, Grimaud accueille son traditionnel marché provençal\, une véritable institution locale appréciée des habitants et des visiteurs. De […]\n\nPlus d'infos : https://golfe-saint-tropez.com/evenement/grimaud/marche-provencal-du-jeudi-a-grimaud/
LOCATION:Place de l'Église Grimaud
STATUS:CONFIRMED
SEQUENCE:0
END:VEVENT
END:VCALENDAR
