BEGIN:VCALENDAR
VERSION:2.0
PRODID:-//Golfe Saint-Tropez//Events//FR
CALSCALE:GREGORIAN
METHOD:PUBLISH
BEGIN:VEVENT
UID:69e86aa78014c@golfe-saint-tropez.com
DTSTAMP:20260422T062855Z
DTSTART:20260425T093000
DTEND:20260425T093000
SUMMARY:Nettoyons Sud
DESCRIPTION:Participez à une action citoyenne et écologique au cœur du Golfe de Saint-Tropez ! Le samedi 25 avril 2026\, la […]\n\nPlus d'infos : https://golfe-saint-tropez.com/evenement/grimaud/nettoyons-sud/
LOCATION:Plage du Gros Pin\, 83310 Grimaud
STATUS:CONFIRMED
SEQUENCE:0
END:VEVENT
END:VCALENDAR
