BEGIN:VCALENDAR
VERSION:2.0
PRODID:-//Golfe Saint-Tropez//Events//FR
CALSCALE:GREGORIAN
METHOD:PUBLISH
BEGIN:VEVENT
UID:69e4d035d13b6@golfe-saint-tropez.com
DTSTAMP:20260419T125309Z
DTSTART:20261119T153000
DTEND:20261219T183000
SUMMARY:Noël Berger 13 desserts  
DESCRIPTION:Plongez dans la magie de Noël provençal avec le traditionnel « Noël du Berger » et ses 13 desserts\, un […]\n\nPlus d'infos : https://golfe-saint-tropez.com/evenement/grimaud/noel-berger-13-desserts/
LOCATION:Musée du Patrimoine\, 591 route Nationale\, 83310 Grimaud
STATUS:CONFIRMED
SEQUENCE:0
END:VEVENT
END:VCALENDAR
