BEGIN:VCALENDAR
VERSION:2.0
PRODID:-//Golfe Saint-Tropez//Events//FR
CALSCALE:GREGORIAN
METHOD:PUBLISH
BEGIN:VEVENT
UID:69eba2f8dd169@golfe-saint-tropez.com
DTSTAMP:20260424T170600Z
DTSTART:20260523T085437
DTEND:20260523T085437
SUMMARY:Nuit Européenne des Musées
DESCRIPTION:Préparez-vous à vivre un événement culturel exceptionnel sous les étoiles ! La Nuit Européenne des Musées revient illuminer la commune […]\n\nPlus d'infos : https://golfe-saint-tropez.com/evenement/grimaud/nuit-europeenne-des-musees/
LOCATION:Grimaud (Divers lieux culturels)
STATUS:CONFIRMED
SEQUENCE:0
END:VEVENT
END:VCALENDAR
