BEGIN:VCALENDAR
VERSION:2.0
PRODID:-//Golfe Saint-Tropez//Events//FR
CALSCALE:GREGORIAN
METHOD:PUBLISH
BEGIN:VEVENT
UID:69eb8dd423c3f@golfe-saint-tropez.com
DTSTAMP:20260424T153548Z
DTSTART:20260701T000000
DTEND:20260930T000000
SUMMARY:Nuitée des boulistes
DESCRIPTION:Plongez dans l’ambiance chaleureuse du Golfe de Saint-Tropez avec la Nuitée des boulistes\, un événement incontournable pour les passionnés de […]\n\nPlus d'infos : https://golfe-saint-tropez.com/evenement/grimaud/nuitee-des-boulistes/
LOCATION:Boulodrome du Pont des Fées\, En contre-bas du moulin Saint-Roch\, 83310 Grimaud
STATUS:CONFIRMED
SEQUENCE:0
END:VEVENT
END:VCALENDAR
