BEGIN:VCALENDAR
VERSION:2.0
PRODID:-//Golfe Saint-Tropez//Events//FR
CALSCALE:GREGORIAN
METHOD:PUBLISH
BEGIN:VEVENT
UID:69ebc7769ff6e@golfe-saint-tropez.com
DTSTAMP:20260424T194142Z
DTSTART:20260517T000000
DTEND:20260517T000000
SUMMARY:Pétanque – 4ème Prix du Maire (Fédéral)
DESCRIPTION:Plongez dans l’ambiance conviviale d’un tournoi de pétanque au cœur du Golfe de Saint-Tropez ! Le 4ème Prix du Maire […]\n\nPlus d'infos : https://golfe-saint-tropez.com/evenement/grimaud/petanque-4eme-prix-du-maire-federal/
LOCATION:Boulodrome du pont des Fées\, En contre-bas du moulin Saint-Roch\, 83310 Grimaud
STATUS:CONFIRMED
SEQUENCE:0
END:VEVENT
END:VCALENDAR
