BEGIN:VCALENDAR
VERSION:2.0
PRODID:-//Golfe Saint-Tropez//Events//FR
CALSCALE:GREGORIAN
METHOD:PUBLISH
BEGIN:VEVENT
UID:69e4cb9409b25@golfe-saint-tropez.com
DTSTAMP:20260419T123324Z
DTSTART:20260307T123618
DTEND:20260502T123618
SUMMARY:Petite librairie  
DESCRIPTION:Plongez dans l’univers chaleureux de la Petite librairie à Grimaud\, un événement incontournable pour les amoureux des livres et des […]\n\nPlus d'infos : https://golfe-saint-tropez.com/evenement/grimaud/petite-librairie-2/
LOCATION:Médiathèque de Grimaud 850 Route Nationale 83310 Grimaud
STATUS:CONFIRMED
SEQUENCE:0
END:VEVENT
END:VCALENDAR
