BEGIN:VCALENDAR
VERSION:2.0
PRODID:-//Golfe Saint-Tropez//Events//FR
CALSCALE:GREGORIAN
METHOD:PUBLISH
BEGIN:VEVENT
UID:69e7e22d97dc6@golfe-saint-tropez.com
DTSTAMP:20260421T204637Z
DTSTART:20260127T125614
DTEND:20261229T125614
SUMMARY:Petite Librairie Médiathèque de Grimaud 
DESCRIPTION:Plongez dans l’univers chaleureux de la Petite Librairie Médiathèque de Grimaud\, un événement incontournable pour les amoureux des livres et […]\n\nPlus d'infos : https://golfe-saint-tropez.com/evenement/grimaud/petite-librairie-mediatheque-de-grimaud/
LOCATION:Médiathèque de Grimaud\, 850 Route Nationale\, Immeuble Beausoleil - 1er étage\, 83310 Grimaud
STATUS:CONFIRMED
SEQUENCE:0
END:VEVENT
END:VCALENDAR
