BEGIN:VCALENDAR
VERSION:2.0
PRODID:-//Golfe Saint-Tropez//Events//FR
CALSCALE:GREGORIAN
METHOD:PUBLISH
BEGIN:VEVENT
UID:69e5e1ccc7bdc@golfe-saint-tropez.com
DTSTAMP:20260420T082028Z
DTSTART:20260609T123913
DTEND:20260613T123913
SUMMARY:Semaine Internationale Archives  
DESCRIPTION:Plongez au cœur de l’histoire et du patrimoine lors de la Semaine Internationale des Archives à Grimaud\, un événement incontournable […]\n\nPlus d'infos : https://golfe-saint-tropez.com/evenement/grimaud/semaine-internationale-archives/
LOCATION:Musée du Patrimoine\, 591 route Nationale\, 83310 Grimaud
STATUS:CONFIRMED
SEQUENCE:0
END:VEVENT
END:VCALENDAR
