BEGIN:VCALENDAR
VERSION:2.0
PRODID:-//Golfe Saint-Tropez//Events//FR
CALSCALE:GREGORIAN
METHOD:PUBLISH
BEGIN:VEVENT
UID:69e4e2c85834c@golfe-saint-tropez.com
DTSTAMP:20260419T141224Z
DTSTART:20260509T190000
DTEND:20260509T190000
SUMMARY:Soirée Jazz – Guinguette jazz suivi Willow Street  
DESCRIPTION:Plongez dans l’ambiance chaleureuse d’une soirée jazz au cœur du Golfe de Saint-Tropez ! Le 9 mai 2026\, Grimaud vous […]\n\nPlus d'infos : https://golfe-saint-tropez.com/evenement/grimaud/soiree-jazz-guinguette-jazz-suivi-willow-street/
LOCATION:Notre-Dame de la Queste\, Route de Sainte-Maxime\, 83310 Grimaud
STATUS:CONFIRMED
SEQUENCE:0
END:VEVENT
END:VCALENDAR
