BEGIN:VCALENDAR
VERSION:2.0
PRODID:-//Golfe Saint-Tropez//Events//FR
CALSCALE:GREGORIAN
METHOD:PUBLISH
BEGIN:VEVENT
UID:69e80c0a2ebe9@golfe-saint-tropez.com
DTSTAMP:20260421T234514Z
DTSTART:20261016T183000
DTEND:20261016T183000
SUMMARY:Soirées Musicales – Conférence-concert Frédéric Vitoux avec I Solisti Nuova Cameristica di Milano  
DESCRIPTION:Plongez dans l’univers envoûtant des Soirées Musicales de Grimaud avec une conférence-concert exceptionnelle animée par Frédéric Vitoux\, accompagné par l’ensemble […]\n\nPlus d'infos : https://golfe-saint-tropez.com/evenement/grimaud/soirees-musicales-conference-concert-frederic-vitoux-avec-i-solisti-nuova-cameristica-di-milano/
LOCATION:Église Saint-Michel\, Place de l'église\, 83310 Grimaud
STATUS:CONFIRMED
SEQUENCE:0
END:VEVENT
END:VCALENDAR
