BEGIN:VCALENDAR
VERSION:2.0
PRODID:-//Golfe Saint-Tropez//Events//FR
CALSCALE:GREGORIAN
METHOD:PUBLISH
BEGIN:VEVENT
UID:69e81fd2c9929@golfe-saint-tropez.com
DTSTAMP:20260422T010938Z
DTSTART:20261113T183000
DTEND:20261113T183000
SUMMARY:Soirées Musicales – Quatuor Ludwig  
DESCRIPTION:Plongez dans l’élégance musicale du Golfe de Saint-Tropez avec les Soirées Musicales de Grimaud\, mettant à l’honneur le Quatuor Ludwig. […]\n\nPlus d'infos : https://golfe-saint-tropez.com/evenement/grimaud/soirees-musicales-quatuor-ludwig/
LOCATION:Église Saint-Michel\, Place de l'église\, 83310 Grimaud
STATUS:CONFIRMED
SEQUENCE:0
END:VEVENT
END:VCALENDAR
