BEGIN:VCALENDAR
VERSION:2.0
PRODID:-//Golfe Saint-Tropez//Events//FR
CALSCALE:GREGORIAN
METHOD:PUBLISH
BEGIN:VEVENT
UID:69e87d3daed41@golfe-saint-tropez.com
DTSTAMP:20260422T074813Z
DTSTART:20260424T161445
DTEND:20260424T161445
SUMMARY:Soirées Musicales – Romain Bockler l’Ensemble concerto Soave  
DESCRIPTION:Plongez dans l’univers envoûtant de la musique classique au cœur du Golfe de Saint-Tropez ! Le 24 avril 2026\, Grimaud […]\n\nPlus d'infos : https://golfe-saint-tropez.com/evenement/grimaud/soirees-musicales-romain-bockler-lensemble-concerto-soave/
LOCATION:Église Saint-Michel\, Place de l'église\, 83310 Grimaud
STATUS:CONFIRMED
SEQUENCE:0
END:VEVENT
END:VCALENDAR
