BEGIN:VCALENDAR
VERSION:2.0
PRODID:-//Golfe Saint-Tropez//Events//FR
CALSCALE:GREGORIAN
METHOD:PUBLISH
BEGIN:VEVENT
UID:69e87ee02cbf5@golfe-saint-tropez.com
DTSTAMP:20260422T075512Z
DTSTART:20260522T161334
DTEND:20260522T161334
SUMMARY:Soirées Musicales – Théo Fouchenneret Boris Blanco Caroline Sypniewski  
DESCRIPTION:Plongez dans l’univers envoûtant des Soirées Musicales de Grimaud\, un événement incontournable du Golfe de Saint-Tropez ! Le 22 mai […]\n\nPlus d'infos : https://golfe-saint-tropez.com/evenement/grimaud/soirees-musicales-theo-fouchenneret-boris-blanco-caroline-sypniewski/
LOCATION:Église Saint-Michel\, Place de l'église\, 83310 Grimaud
STATUS:CONFIRMED
SEQUENCE:0
END:VEVENT
END:VCALENDAR
