BEGIN:VCALENDAR
VERSION:2.0
PRODID:-//Golfe Saint-Tropez//Events//FR
CALSCALE:GREGORIAN
METHOD:PUBLISH
BEGIN:VEVENT
UID:69eb3e26308cd@golfe-saint-tropez.com
DTSTAMP:20260424T095550Z
DTSTART:20260626T130216
DTEND:20260626T130216
SUMMARY:Soirées Musicales – Vincent Tizon Anne-Lise Clément Mathieu Moreaud  
DESCRIPTION:Plongez dans l’univers envoûtant des Soirées Musicales de Grimaud\, un événement incontournable du Golfe de Saint-Tropez. Le 26 juin 2026\, […]\n\nPlus d'infos : https://golfe-saint-tropez.com/evenement/grimaud/soirees-musicales-vincent-tizon-anne-lise-clement-mathieu-moreaud/
LOCATION:Église Saint-Michel\, Place de l'église\, 83310 Grimaud
STATUS:CONFIRMED
SEQUENCE:0
END:VEVENT
END:VCALENDAR
