BEGIN:VCALENDAR
VERSION:2.0
PRODID:-//Golfe Saint-Tropez//Events//FR
CALSCALE:GREGORIAN
METHOD:PUBLISH
BEGIN:VEVENT
UID:69ebb38b3a967@golfe-saint-tropez.com
DTSTAMP:20260424T181643Z
DTSTART:20260613T000000
DTEND:20260613T000000
SUMMARY:Tournoi de football « Grimaou cup »
DESCRIPTION:Vivez l’esprit sportif et convivial du Golfe de Saint-Tropez lors du tournoi de football « Grimaou Cup » à Grimaud […]\n\nPlus d'infos : https://golfe-saint-tropez.com/evenement/grimaud/tournoi-de-football-grimaou-cup/
LOCATION:Complexe sportif des Blaquières\, 834 route des Blaquières\, 83310 Grimaud
STATUS:CONFIRMED
SEQUENCE:0
END:VEVENT
END:VCALENDAR
