BEGIN:VCALENDAR
VERSION:2.0
PRODID:-//Golfe Saint-Tropez//Events//FR
CALSCALE:GREGORIAN
METHOD:PUBLISH
BEGIN:VEVENT
UID:69ebcd75a77c4@golfe-saint-tropez.com
DTSTAMP:20260424T200717Z
DTSTART:20260425T000000
DTEND:20260426T000000
SUMMARY:Tournoi Gymnastique Rythmique  
DESCRIPTION:Plongez dans l’univers gracieux de la gymnastique rythmique lors du Tournoi de Grimaud\, un événement incontournable du Golfe de Saint-Tropez […]\n\nPlus d'infos : https://golfe-saint-tropez.com/evenement/grimaud/tournoi-gymnastique-rythmique/
LOCATION:Complexe sportif des Blaquières\, 834 route des Blaquières\, 83310 Grimaud
STATUS:CONFIRMED
SEQUENCE:0
END:VEVENT
END:VCALENDAR
