BEGIN:VCALENDAR
VERSION:2.0
PRODID:-//Golfe Saint-Tropez//Events//FR
CALSCALE:GREGORIAN
METHOD:PUBLISH
BEGIN:VEVENT
UID:69e53739d561f@golfe-saint-tropez.com
DTSTAMP:20260419T201241Z
DTSTART:20260504T000000
DTEND:20260504T000000
SUMMARY:Atelier philo adultes avec Claire Lucq
DESCRIPTION:Et si l’amitié était une philosophie à explorer ensemble ? Le 4 mai 2026\, La-Croix-Valmer vous invite à un événement […]\n\nPlus d'infos : https://golfe-saint-tropez.com/evenement/la-croix-valmer/atelier-philo-adultes-avec-claire-lucq-2/
LOCATION:Espace Culturel Les Bruyères\, Boulevard des Villas\, 83420 La Croix-Valmer
STATUS:CONFIRMED
SEQUENCE:0
END:VEVENT
END:VCALENDAR
