BEGIN:VCALENDAR
VERSION:2.0
PRODID:-//Golfe Saint-Tropez//Events//FR
CALSCALE:GREGORIAN
METHOD:PUBLISH
BEGIN:VEVENT
UID:69e7ce6dd9f4b@golfe-saint-tropez.com
DTSTAMP:20260421T192221Z
DTSTART:20260626T210000
DTEND:20260626T210000
SUMMARY:Concert de gala : Koninklijke Biltse Harmonie
DESCRIPTION:Plongez dans l’élégance musicale avec le Concert de gala de la Koninklijke Biltse Harmonie\, un événement incontournable du Golfe de […]\n\nPlus d'infos : https://golfe-saint-tropez.com/evenement/la-croix-valmer/concert-de-gala-koninklijke-biltse-harmonie/
LOCATION:Forum Constantin\, Place des Palmiers\, 83420 La Croix-Valmer
STATUS:CONFIRMED
SEQUENCE:0
END:VEVENT
END:VCALENDAR
