BEGIN:VCALENDAR
VERSION:2.0
PRODID:-//Golfe Saint-Tropez//Events//FR
CALSCALE:GREGORIAN
METHOD:PUBLISH
BEGIN:VEVENT
UID:69e4f73a73a97@golfe-saint-tropez.com
DTSTAMP:20260419T153938Z
DTSTART:20260628T000000
DTEND:20260628T000000
SUMMARY:Concert de gala : Orchestre Symphonique Conservatoire de Prague
DESCRIPTION:Plongez dans l’émotion d’un soir exceptionnel au cœur du Golfe de Saint-Tropez ! Le 28 juin 2026\, La-Croix-Valmer vous invite […]\n\nPlus d'infos : https://golfe-saint-tropez.com/evenement/la-croix-valmer/concert-de-gala-orchestre-symphonique-conservatoire-de-prague/
LOCATION:Forum Constantin\, Place des Palmiers\, 83420 La Croix-Valmer
STATUS:CONFIRMED
SEQUENCE:0
END:VEVENT
END:VCALENDAR
