BEGIN:VCALENDAR
VERSION:2.0
PRODID:-//Golfe Saint-Tropez//Events//FR
CALSCALE:GREGORIAN
METHOD:PUBLISH
BEGIN:VEVENT
UID:69e881f09f4e6@golfe-saint-tropez.com
DTSTAMP:20260422T080816Z
DTSTART:20260628T210000
DTEND:20260628T210000
SUMMARY:Concert de Gala : Orchestre Symphonique Conservatoire
DESCRIPTION:Plongez dans l’univers enchanteur de la musique classique lors du Concert de Gala de l’Orchestre Symphonique du Conservatoire\, un événement […]\n\nPlus d'infos : https://golfe-saint-tropez.com/evenement/la-croix-valmer/concert-de-gala-orchestre-symphonique-conservatoire/
LOCATION:Forum Constantin\, Place des Palmiers\, 83420 La Croix-Valmer
STATUS:CONFIRMED
SEQUENCE:0
END:VEVENT
END:VCALENDAR
