BEGIN:VCALENDAR
VERSION:2.0
PRODID:-//Golfe Saint-Tropez//Events//FR
CALSCALE:GREGORIAN
METHOD:PUBLISH
BEGIN:VEVENT
UID:69e82cb99bb37@golfe-saint-tropez.com
DTSTAMP:20260422T020441Z
DTSTART:20260627T210000
DTEND:20260627T210000
SUMMARY:Concert de gala : West Virginia University Wind Symphony
DESCRIPTION:Plongez dans l’univers envoûtant de la musique classique avec le concert de gala de la West Virginia University Wind Symphony\, […]\n\nPlus d'infos : https://golfe-saint-tropez.com/evenement/la-croix-valmer/concert-de-gala-west-virginia-university-wind-symphony/
LOCATION:Forum Constantin\, Place des Palmiers\, 83420 La Croix-Valmer
STATUS:CONFIRMED
SEQUENCE:0
END:VEVENT
END:VCALENDAR
