BEGIN:VCALENDAR
VERSION:2.0
PRODID:-//Golfe Saint-Tropez//Events//FR
CALSCALE:GREGORIAN
METHOD:PUBLISH
BEGIN:VEVENT
UID:69e842a9a8890@golfe-saint-tropez.com
DTSTAMP:20260422T033817Z
DTSTART:20260628T183000
DTEND:20260628T183000
SUMMARY:Concert : Ensemble musical de La Croix Valmer
DESCRIPTION:Plongez dans l’ambiance musicale estivale du Golfe de Saint-Tropez avec le concert de l’Ensemble musical de La-Croix-Valmer ! Le dimanche […]\n\nPlus d'infos : https://golfe-saint-tropez.com/evenement/la-croix-valmer/concert-ensemble-musical-de-la-croix-valmer/
LOCATION:Forum René Rinaudo\, 83420 La Croix-Valmer
STATUS:CONFIRMED
SEQUENCE:0
END:VEVENT
END:VCALENDAR
