BEGIN:VCALENDAR
VERSION:2.0
PRODID:-//Golfe Saint-Tropez//Events//FR
CALSCALE:GREGORIAN
METHOD:PUBLISH
BEGIN:VEVENT
UID:69e807fe37dd1@golfe-saint-tropez.com
DTSTAMP:20260421T232758Z
DTSTART:20260627T110000
DTEND:20260627T110000
SUMMARY:Concert : Koninklijke Biltse Harmonie
DESCRIPTION:Plongez dans l’univers envoûtant de la Koninklijke Biltse Harmonie\, l’un des orchestres à vent les plus prestigieux des Pays-Bas\, lors […]\n\nPlus d'infos : https://golfe-saint-tropez.com/evenement/la-croix-valmer/concert-koninklijke-biltse-harmonie-2/
LOCATION:Forum René Rinaudo\, 83420 La Croix-Valmer
STATUS:CONFIRMED
SEQUENCE:0
END:VEVENT
END:VCALENDAR
