BEGIN:VCALENDAR
VERSION:2.0
PRODID:-//Golfe Saint-Tropez//Events//FR
CALSCALE:GREGORIAN
METHOD:PUBLISH
BEGIN:VEVENT
UID:69e830ce79956@golfe-saint-tropez.com
DTSTAMP:20260422T022206Z
DTSTART:20260628T110000
DTEND:20260628T173140
SUMMARY:Concert : Koninklijke Biltse Harmonie
DESCRIPTION:Plongez dans l’univers enchanteur des harmonies musicales avec le concert de la Koninklijke Biltse Harmonie\, un événement incontournable du Golfe […]\n\nPlus d'infos : https://golfe-saint-tropez.com/evenement/la-croix-valmer/concert-koninklijke-biltse-harmonie/
LOCATION:Plage du Débarquement Boulevard du Maréchal Alphonse Juin 83420 La Croix-Valmer
STATUS:CONFIRMED
SEQUENCE:0
END:VEVENT
END:VCALENDAR
