BEGIN:VCALENDAR
VERSION:2.0
PRODID:-//Golfe Saint-Tropez//Events//FR
CALSCALE:GREGORIAN
METHOD:PUBLISH
BEGIN:VEVENT
UID:69e859dd8b47c@golfe-saint-tropez.com
DTSTAMP:20260422T051717Z
DTSTART:20260628T100000
DTEND:20260628T100000
SUMMARY:Concert : Orchestre Symphonique Conservatoire de Prague
DESCRIPTION:Plongez dans l’émotion d’un concert symphonique exceptionnel au cœur du Golfe de Saint-Tropez ! Le 28 juin 2026\, La-Croix-Valmer accueille […]\n\nPlus d'infos : https://golfe-saint-tropez.com/evenement/la-croix-valmer/concert-orchestre-symphonique-conservatoire-de-prague/
LOCATION:Forum René Rinaudo\, 83420 La Croix-Valmer
STATUS:CONFIRMED
SEQUENCE:0
END:VEVENT
END:VCALENDAR
