BEGIN:VCALENDAR
VERSION:2.0
PRODID:-//Golfe Saint-Tropez//Events//FR
CALSCALE:GREGORIAN
METHOD:PUBLISH
BEGIN:VEVENT
UID:69e7e29b6264e@golfe-saint-tropez.com
DTSTAMP:20260421T204827Z
DTSTART:20260627T110000
DTEND:20260627T172938
SUMMARY:Concert : West Virginia University Wind Symphony
DESCRIPTION:Plongez dans l’univers envoûtant de la musique classique avec le concert exceptionnel de la West Virginia University Wind Symphony\, un […]\n\nPlus d'infos : https://golfe-saint-tropez.com/evenement/la-croix-valmer/concert-west-virginia-university-wind-symphony-2/
LOCATION:Plage du Débarquement Boulevard du Maréchal Alphonse Juin 83420 La Croix-Valmer
STATUS:CONFIRMED
SEQUENCE:0
END:VEVENT
END:VCALENDAR
