BEGIN:VCALENDAR
VERSION:2.0
PRODID:-//Golfe Saint-Tropez//Events//FR
CALSCALE:GREGORIAN
METHOD:PUBLISH
BEGIN:VEVENT
UID:69e86dd0dcea1@golfe-saint-tropez.com
DTSTAMP:20260422T064224Z
DTSTART:20260628T110000
DTEND:20260628T110000
SUMMARY:Concert : West Virginia University Wind Symphony
DESCRIPTION:Plongez dans l’univers envoûtant de la musique classique avec le concert de la West Virginia University Wind Symphony\, un événement […]\n\nPlus d'infos : https://golfe-saint-tropez.com/evenement/la-croix-valmer/concert-west-virginia-university-wind-symphony/
LOCATION:Forum René Rinaudo\, 83420 La Croix-Valmer
STATUS:CONFIRMED
SEQUENCE:0
END:VEVENT
END:VCALENDAR
