BEGIN:VCALENDAR
VERSION:2.0
PRODID:-//Golfe Saint-Tropez//Events//FR
CALSCALE:GREGORIAN
METHOD:PUBLISH
BEGIN:VEVENT
UID:69e7e257421f4@golfe-saint-tropez.com
DTSTAMP:20260421T204719Z
DTSTART:20251118T000000
DTEND:20260428T000000
SUMMARY:découverte & initiation Golfup
DESCRIPTION:Envie de vous initier au golf dans un cadre exceptionnel ? Le Golfe de Saint-Tropez est le théâtre d’un événement […]\n\nPlus d'infos : https://golfe-saint-tropez.com/evenement/la-croix-valmer/decouverte-initiation-golfup/
LOCATION:Information non disponible dans la source fournie
STATUS:CONFIRMED
SEQUENCE:0
END:VEVENT
END:VCALENDAR
