BEGIN:VCALENDAR
VERSION:2.0
PRODID:-//Golfe Saint-Tropez//Events//FR
CALSCALE:GREGORIAN
METHOD:PUBLISH
BEGIN:VEVENT
UID:69e561ef0658e@golfe-saint-tropez.com
DTSTAMP:20260419T231455Z
DTSTART:20260429T000000
DTEND:20260517T000000
SUMMARY:Exposition : Fragments\, Emilie Hor
DESCRIPTION:Découvrez l’univers poétique et délicat d’Emilie Hor à travers son exposition *Fragments*\, un événement culturel à ne pas manquer dans […]\n\nPlus d'infos : https://golfe-saint-tropez.com/evenement/la-croix-valmer/exposition-fragments-emilie-hor/
LOCATION:Villa Turquoise\, Place des Palmiers\, 83420 La-Croix-Valmer
STATUS:CONFIRMED
SEQUENCE:0
END:VEVENT
END:VCALENDAR
