BEGIN:VCALENDAR
VERSION:2.0
PRODID:-//Golfe Saint-Tropez//Events//FR
CALSCALE:GREGORIAN
METHOD:PUBLISH
BEGIN:VEVENT
UID:69e50c142d04b@golfe-saint-tropez.com
DTSTAMP:20260419T170836Z
DTSTART:20260522T000000
DTEND:20260602T000000
SUMMARY:Exposition : Moments Suspendus
DESCRIPTION:Plongez dans l’univers captivant de Moments Suspendus\, une exposition photographique qui sublime les paysages du Golfe de Saint-Tropez à travers […]\n\nPlus d'infos : https://golfe-saint-tropez.com/evenement/la-croix-valmer/exposition-moments-suspendus/
LOCATION:Villa Turquoise\, Place des Palmiers\, 83420 La Croix-Valmer
STATUS:CONFIRMED
SEQUENCE:0
END:VEVENT
END:VCALENDAR
