BEGIN:VCALENDAR
VERSION:2.0
PRODID:-//Golfe Saint-Tropez//Events//FR
CALSCALE:GREGORIAN
METHOD:PUBLISH
BEGIN:VEVENT
UID:69e54cb9cf95f@golfe-saint-tropez.com
DTSTAMP:20260419T214425Z
DTSTART:20260503T000000
DTEND:20260503T000000
SUMMARY:Histoires de mômes
DESCRIPTION:Offrez à vos tout-petits un moment de douceur et d’évasion avec l’événement « Histoires de mômes » dans le cadre […]\n\nPlus d'infos : https://golfe-saint-tropez.com/evenement/la-croix-valmer/histoires-de-momes-2/
LOCATION:Résidence Cap Novéa\, Bâtiment A\, 528 Boulevard de Saint Raphaël\, 83420 La-Croix-Valmer
STATUS:CONFIRMED
SEQUENCE:0
END:VEVENT
END:VCALENDAR
