BEGIN:VCALENDAR
VERSION:2.0
PRODID:-//Golfe Saint-Tropez//Events//FR
CALSCALE:GREGORIAN
METHOD:PUBLISH
BEGIN:VEVENT
UID:69e7ccf569d76@golfe-saint-tropez.com
DTSTAMP:20260421T191605Z
DTSTART:20260503T080000
DTEND:20260503T123000
SUMMARY:Le Marché du Dimanche la Croix Valmer – 3 mai 2026
DESCRIPTION:Chaque dimanche matin\, le marché provençal s’installe au cœur du village de La Croix-Valmer\, sur la Place des Palmiers et […]\n\nPlus d'infos : https://golfe-saint-tropez.com/evenement/la-croix-valmer/le-marche-du-dimanche-la-croix-valmer-2026-05-03/
LOCATION:Place des Palmiers la Croix Valmer
STATUS:CONFIRMED
SEQUENCE:0
END:VEVENT
END:VCALENDAR
