BEGIN:VCALENDAR
VERSION:2.0
PRODID:-//Golfe Saint-Tropez//Events//FR
CALSCALE:GREGORIAN
METHOD:PUBLISH
BEGIN:VEVENT
UID:69ea67059beea@golfe-saint-tropez.com
DTSTAMP:20260423T183757Z
DTSTART:20260426T080000
DTEND:20260426T123000
SUMMARY:Le Marché du Dimanche la Croix Valmer
DESCRIPTION:Chaque dimanche matin\, le marché provençal s’installe au cœur du village de La Croix-Valmer\, sur la Place des Palmiers et […]\n\nPlus d'infos : https://golfe-saint-tropez.com/evenement/la-croix-valmer/le-marche-du-dimanche-la-croix-valmer/
LOCATION:Place des Palmiers la Croix Valmer
STATUS:CONFIRMED
SEQUENCE:0
END:VEVENT
END:VCALENDAR
